BEGIN:VCALENDAR
VERSION:2.0
PRODID:-//81.169.145.79//NONSGML kigkonsult.se iCalcreator 2.20//
CALSCALE:GREGORIAN
METHOD:PUBLISH
X-WR-TIMEZONE:Europe/Berlin
BEGIN:VEVENT
UID:event759@Maibach Online
DTSTAMP:20260424T130234Z
CATEGORIES:Maibach\, Liederperle Maibach
DESCRIPTION:Platzkonzert - Liederperle Maibach\nKategorie: Maibach\, Lieder
 perle Maibach\nICS-Link: https://www.maibach-online.de/index.php?option=co
 m_jem&view=event&id=759:platzkonzert-liederperle-maibach\n
DTSTART;VALUE=DATE:20260531
DTEND;VALUE=DATE:20260601
SUMMARY:Platzkonzert - Liederperle Maibach
URL:https://www.maibach-online.de/index.php?option=com_jem&view=event&id=75
 9:platzkonzert-liederperle-maibach
END:VEVENT
END:VCALENDAR