BEGIN:VCALENDAR
VERSION:2.0
PRODID:-//81.169.145.79//NONSGML kigkonsult.se iCalcreator 2.20//
CALSCALE:GREGORIAN
METHOD:PUBLISH
X-WR-TIMEZONE:Europe/Berlin
BEGIN:VEVENT
UID:event688@Maibach Online
DTSTAMP:20260420T084923Z
CATEGORIES:Maibach\, Ortsbeirat Maibach
DESCRIPTION:8. Ortsbeiratssitzung Maibach\nKategorie: Maibach\, Ortsbeirat 
 Maibach\nICS-Link: https://www.maibach-online.de/index.php?option=com_jem&
 view=event&id=688:8-ortsbeiratssitzung-maibach\n
DTSTART;TZID=Europe/Berlin:20221114T201500
DTEND;TZID=Europe/Berlin:20221114T201500
LOCATION:Dorfgemeinschaftshaus
SUMMARY:8. Ortsbeiratssitzung Maibach
URL:https://www.maibach-online.de/index.php?option=com_jem&view=event&id=68
 8:8-ortsbeiratssitzung-maibach
END:VEVENT
END:VCALENDAR