BEGIN:VCALENDAR
VERSION:2.0
PRODID:-//81.169.145.79//NONSGML kigkonsult.se iCalcreator 2.20//
CALSCALE:GREGORIAN
METHOD:PUBLISH
X-WR-TIMEZONE:Europe/Berlin
BEGIN:VEVENT
UID:event56@Maibach Online
DTSTAMP:20260423T002820Z
CATEGORIES:Maibach\, Liederperle Maibach
DESCRIPTION:JHV - Liederperle\nKategorie: Maibach\, Liederperle Maibach\nIC
 S-Link: https://www.maibach-online.de/index.php?option=com_jem&view=event&
 id=56:jhv-liederperle\n
DTSTART;VALUE=DATE:20160227
DTEND;VALUE=DATE:20160228
LOCATION:Dorfgemeinschaftshaus
SUMMARY:JHV - Liederperle
URL:https://www.maibach-online.de/index.php?option=com_jem&view=event&id=56
 :jhv-liederperle
END:VEVENT
END:VCALENDAR