BEGIN:VCALENDAR
VERSION:2.0
PRODID:-//81.169.145.79//NONSGML kigkonsult.se iCalcreator 2.20//
CALSCALE:GREGORIAN
METHOD:PUBLISH
X-WR-TIMEZONE:Europe/Berlin
BEGIN:VEVENT
UID:event539@Maibach Online
DTSTAMP:20260424T133750Z
CATEGORIES:Maibach\, FFW Maibach
DESCRIPTION:JHV - Freiwillige Feuerwehr Maibach\nKategorie: Maibach\, FFW M
 aibach\nICS-Link: https://www.maibach-online.de/index.php?option=com_jem&v
 iew=event&id=539:ff-jahreshauptversammlung\n
DTSTART;TZID=Europe/Berlin:20190126T200000
DTEND;TZID=Europe/Berlin:20190126T200000
LOCATION:Alte Schule
SUMMARY:JHV - Freiwillige Feuerwehr Maibach
URL:https://www.maibach-online.de/index.php?option=com_jem&view=event&id=53
 9:ff-jahreshauptversammlung
END:VEVENT
END:VCALENDAR