BEGIN:VCALENDAR
VERSION:2.0
PRODID:-//81.169.145.79//NONSGML kigkonsult.se iCalcreator 2.20//
CALSCALE:GREGORIAN
METHOD:PUBLISH
X-WR-TIMEZONE:Europe/Berlin
BEGIN:VEVENT
UID:event387@Maibach Online
DTSTAMP:20260425T001005Z
CATEGORIES:Maibach\, FFW Maibach
DESCRIPTION:FF - Vorstandssitzung\nKategorie: Maibach\, FFW Maibach\nICS-Li
 nk: https://www.maibach-online.de/index.php?option=com_jem&view=event&id=3
 87:vorstandssitzung\n
DTSTART;TZID=Europe/Berlin:20170328T193000
DTEND;TZID=Europe/Berlin:20170328T193000
LOCATION:Alte Schule
SUMMARY:FF - Vorstandssitzung
URL:https://www.maibach-online.de/index.php?option=com_jem&view=event&id=38
 7:vorstandssitzung
END:VEVENT
END:VCALENDAR