BEGIN:VCALENDAR
VERSION:2.0
PRODID:-//81.169.145.79//NONSGML kigkonsult.se iCalcreator 2.20//
CALSCALE:GREGORIAN
METHOD:PUBLISH
X-WR-TIMEZONE:Europe/Berlin
BEGIN:VEVENT
UID:event362@Maibach Online
DTSTAMP:20260421T225410Z
CATEGORIES:Maibach\, FSV Maibach\, FFW Maibach
DESCRIPTION:Triathlon\nKategorie: Maibach\, FSV Maibach\, FFW Maibach\nICS-
 Link: https://www.maibach-online.de/index.php?option=com_jem&view=event&id
 =362:triathlon\n
DTSTART;TZID=Europe/Berlin:20170813T080000
DTEND;TZID=Europe/Berlin:20170813T080000
LOCATION:Freibad
SUMMARY:Triathlon
URL:https://www.maibach-online.de/index.php?option=com_jem&view=event&id=36
 2:triathlon
END:VEVENT
END:VCALENDAR