BEGIN:VCALENDAR
VERSION:2.0
PRODID:-//81.169.145.79//NONSGML kigkonsult.se iCalcreator 2.20//
CALSCALE:GREGORIAN
METHOD:PUBLISH
X-WR-TIMEZONE:Europe/Berlin
BEGIN:VEVENT
UID:event334@Maibach Online
DTSTAMP:20260422T035543Z
CATEGORIES:Maibach
DESCRIPTION:Jahresendgottesdienst\nKategorie: Maibach\nICS-Link: https://ww
 w.maibach-online.de/index.php?option=com_jem&view=event&id=334:ev-gottesdi
 enst\n
DTSTART;TZID=Europe/Berlin:20161231T180000
DTEND;TZID=Europe/Berlin:20161231T180000
LOCATION:Kirche
SUMMARY:Jahresendgottesdienst
URL:https://www.maibach-online.de/index.php?option=com_jem&view=event&id=33
 4:ev-gottesdienst
END:VEVENT
END:VCALENDAR