BEGIN:VCALENDAR
VERSION:2.0
PRODID:-//81.169.145.79//NONSGML kigkonsult.se iCalcreator 2.20//
CALSCALE:GREGORIAN
METHOD:PUBLISH
X-WR-TIMEZONE:Europe/Berlin
BEGIN:VEVENT
UID:event332@Maibach Online
DTSTAMP:20260423T002850Z
CATEGORIES:Maibach
DESCRIPTION:Christvesper mit Krippenspiel\nKategorie: Maibach\nICS-Link: ht
 tps://www.maibach-online.de/index.php?option=com_jem&view=event&id=332:ev-
 gottesdienst\n
DTSTART;TZID=Europe/Berlin:20161218T171500
DTEND;TZID=Europe/Berlin:20161218T171500
LOCATION:Kirche
SUMMARY:Christvesper mit Krippenspiel
URL:https://www.maibach-online.de/index.php?option=com_jem&view=event&id=33
 2:ev-gottesdienst
END:VEVENT
END:VCALENDAR