BEGIN:VCALENDAR
VERSION:2.0
PRODID:-//81.169.145.79//NONSGML kigkonsult.se iCalcreator 2.20//
CALSCALE:GREGORIAN
METHOD:PUBLISH
X-WR-TIMEZONE:Europe/Berlin
BEGIN:VEVENT
UID:event13@Maibach Online
DTSTAMP:20260422T225101Z
CATEGORIES:Maibach\, FFW Maibach\, Jugendfeuerwehr
DESCRIPTION:JF - Satdtmeisterschaften\nKategorie: Maibach\, FFW Maibach\, J
 ugendfeuerwehr\nICS-Link: https://www.maibach-online.de/index.php?option=c
 om_jem&view=event&id=13:jf-sms2015\n
DTSTART;TZID=Europe/Berlin:20151010T103000
DTEND;TZID=Europe/Berlin:20151010T103000
LOCATION:Feuerwehr Gerätehaus
SUMMARY:JF - Satdtmeisterschaften
URL:https://www.maibach-online.de/index.php?option=com_jem&view=event&id=13
 :jf-sms2015
END:VEVENT
END:VCALENDAR