BEGIN:VCALENDAR
VERSION:2.0
PRODID:-//81.169.145.79//NONSGML kigkonsult.se iCalcreator 2.20//
CALSCALE:GREGORIAN
METHOD:PUBLISH
X-WR-TIMEZONE:Europe/Berlin
BEGIN:VEVENT
UID:event770@Maibach Online
DTSTAMP:20260426T021437Z
CATEGORIES:Maibach\, FSV Maibach
DESCRIPTION:JHV - FSV Maibach e.V.\nKategorie: Maibach\, FSV Maibach\nICS-L
 ink: https://www.maibach-online.de/index.php?option=com_jem&view=event&id=
 770:jhv-fsv-maibach-e-v\n
DTSTART;TZID=Europe/Berlin:20260320T193000
DTEND;TZID=Europe/Berlin:20260320T193000
LOCATION:Dorfgemeinschaftshaus
SUMMARY:JHV - FSV Maibach e.V.
URL:https://www.maibach-online.de/index.php?option=com_jem&view=event&id=77
 0:jhv-fsv-maibach-e-v
END:VEVENT
END:VCALENDAR