BEGIN:VCALENDAR
VERSION:2.0
PRODID:-//81.169.145.79//NONSGML kigkonsult.se iCalcreator 2.20//
CALSCALE:GREGORIAN
METHOD:PUBLISH
X-WR-TIMEZONE:Europe/Berlin
BEGIN:VEVENT
UID:event768@Maibach Online
DTSTAMP:20260421T220639Z
CATEGORIES:Maibach\, FFW Maibach
DESCRIPTION:JHV - Feuerwehr der Stadt Butzbach\nKategorie: Maibach\, FFW Ma
 ibach\nICS-Link: https://www.maibach-online.de/index.php?option=com_jem&vi
 ew=event&id=768:jhv-feuerwehr-der-stadt-butzbach\n
DTSTART;VALUE=DATE:20260417
DTEND;VALUE=DATE:20260418
LOCATION:Feuerwehr Gerätehaus
SUMMARY:JHV - Feuerwehr der Stadt Butzbach
URL:https://www.maibach-online.de/index.php?option=com_jem&view=event&id=76
 8:jhv-feuerwehr-der-stadt-butzbach
END:VEVENT
END:VCALENDAR