BEGIN:VCALENDAR
VERSION:2.0
PRODID:-//81.169.145.79//NONSGML kigkonsult.se iCalcreator 2.20//
CALSCALE:GREGORIAN
METHOD:PUBLISH
X-WR-TIMEZONE:Europe/Berlin
BEGIN:VEVENT
UID:event762@Maibach Online
DTSTAMP:20260422T051959Z
CATEGORIES:Maibach\, FFW Maibach
DESCRIPTION:1.Mai Feier\nKategorie: Maibach\, FFW Maibach\nICS-Link: https:
 //www.maibach-online.de/index.php?option=com_jem&view=event&id=762:1-mai-f
 eier\n
DTSTART;TZID=Europe/Berlin:20260501T103000
DTEND;TZID=Europe/Berlin:20260501T103000
LOCATION:Feuerwehr Gerätehaus
SUMMARY:1.Mai Feier
URL:https://www.maibach-online.de/index.php?option=com_jem&view=event&id=76
 2:1-mai-feier
END:VEVENT
END:VCALENDAR