BEGIN:VCALENDAR
VERSION:2.0
PRODID:-//81.169.145.79//NONSGML kigkonsult.se iCalcreator 2.20//
CALSCALE:GREGORIAN
METHOD:PUBLISH
X-WR-TIMEZONE:Europe/Berlin
BEGIN:VEVENT
UID:event758@Maibach Online
DTSTAMP:20260423T002755Z
CATEGORIES:Maibach\, Liederperle Maibach
DESCRIPTION:JHV - Liederperle Maibach \nKategorie: Maibach\, Liederperle Ma
 ibach\nICS-Link: https://www.maibach-online.de/index.php?option=com_jem&vi
 ew=event&id=758:jhv-liederperle-maibach\n
DTSTART;TZID=Europe/Berlin:20260228T193000
DTEND;TZID=Europe/Berlin:20260228T193000
LOCATION:Dorfgemeinschaftshaus
SUMMARY:JHV - Liederperle Maibach 
URL:https://www.maibach-online.de/index.php?option=com_jem&view=event&id=75
 8:jhv-liederperle-maibach
END:VEVENT
END:VCALENDAR