BEGIN:VCALENDAR
VERSION:2.0
PRODID:-//81.169.145.79//NONSGML kigkonsult.se iCalcreator 2.20//
CALSCALE:GREGORIAN
METHOD:PUBLISH
X-WR-TIMEZONE:Europe/Berlin
BEGIN:VEVENT
UID:event655@Maibach Online
DTSTAMP:20260422T101224Z
CATEGORIES:Maibach\, FSV Maibach
DESCRIPTION:Bänkewanderung rund um Maibach\nKategorie: Maibach\, FSV Maibac
 h\nICS-Link: https://www.maibach-online.de/index.php?option=com_jem&view=e
 vent&id=655:baenkewanderung-rund-um-maibach\n
DTSTART;TZID=Europe/Berlin:20201018T140000
DTEND;TZID=Europe/Berlin:20201018T140000
LOCATION:Freibad
SUMMARY:Bänkewanderung rund um Maibach
URL:https://www.maibach-online.de/index.php?option=com_jem&view=event&id=65
 5:baenkewanderung-rund-um-maibach
END:VEVENT
END:VCALENDAR