BEGIN:VCALENDAR
VERSION:2.0
PRODID:-//81.169.145.79//NONSGML kigkonsult.se iCalcreator 2.20//
CALSCALE:GREGORIAN
METHOD:PUBLISH
X-WR-TIMEZONE:Europe/Berlin
BEGIN:VEVENT
UID:event651@Maibach Online
DTSTAMP:20260422T120533Z
CATEGORIES:Maibach\, FFW Maibach
DESCRIPTION:FF - Jahreshauptversammlung\nKategorie: Maibach\, FFW Maibach\n
 ICS-Link: https://www.maibach-online.de/index.php?option=com_jem&view=even
 t&id=651:ff-jahreshauptversammlung\n
DTSTART;TZID=Europe/Berlin:20200125T200000
DTEND;TZID=Europe/Berlin:20200125T200000
LOCATION:Alte Schule
SUMMARY:FF - Jahreshauptversammlung
URL:https://www.maibach-online.de/index.php?option=com_jem&view=event&id=65
 1:ff-jahreshauptversammlung
END:VEVENT
END:VCALENDAR