BEGIN:VCALENDAR
VERSION:2.0
PRODID:-//81.169.145.79//NONSGML kigkonsult.se iCalcreator 2.20//
CALSCALE:GREGORIAN
METHOD:PUBLISH
X-WR-TIMEZONE:Europe/Berlin
BEGIN:VEVENT
UID:event533@Maibach Online
DTSTAMP:20260422T163116Z
CATEGORIES:Maibach\, Ortsbeirat Maibach
DESCRIPTION:BGM Kandidat Herr Euler\nKategorie: Maibach\, Ortsbeirat Maibac
 h\nICS-Link: https://www.maibach-online.de/index.php?option=com_jem&view=e
 vent&id=533:bgm-kandidat-herr-merle\n
DTSTART;TZID=Europe/Berlin:20181026T180000
DTEND;TZID=Europe/Berlin:20181026T180000
LOCATION:Dorfgemeinschaftshaus
SUMMARY:BGM Kandidat Herr Euler
URL:https://www.maibach-online.de/index.php?option=com_jem&view=event&id=53
 3:bgm-kandidat-herr-merle
END:VEVENT
END:VCALENDAR