BEGIN:VCALENDAR
VERSION:2.0
PRODID:-//81.169.145.79//NONSGML kigkonsult.se iCalcreator 2.20//
CALSCALE:GREGORIAN
METHOD:PUBLISH
X-WR-TIMEZONE:Europe/Berlin
BEGIN:VEVENT
UID:event47@Maibach Online
DTSTAMP:20260424T165432Z
CATEGORIES:Abfallkalender
DESCRIPTION:Gelber Sack\nKategorie: Abfallkalender\nICS-Link: https://www.m
 aibach-online.de/index.php?option=com_jem&view=event&id=47:gelbersackabfuh
 r\n
DTSTART;VALUE=DATE:20151223
DTEND;VALUE=DATE:20151224
SUMMARY:Gelber Sack
URL:https://www.maibach-online.de/index.php?option=com_jem&view=event&id=47
 :gelbersackabfuhr
END:VEVENT
END:VCALENDAR