BEGIN:VCALENDAR
VERSION:2.0
PRODID:-//81.169.145.79//NONSGML kigkonsult.se iCalcreator 2.20//
CALSCALE:GREGORIAN
METHOD:PUBLISH
X-WR-TIMEZONE:Europe/Berlin
BEGIN:VEVENT
UID:event36@Maibach Online
DTSTAMP:20260421T180041Z
CATEGORIES:Abfallkalender
DESCRIPTION:Biomüll\nKategorie: Abfallkalender\nICS-Link: https://www.maiba
 ch-online.de/index.php?option=com_jem&view=event&id=36:biomuellabfuhr\n
DTSTART;VALUE=DATE:20151002
DTEND;VALUE=DATE:20151003
SUMMARY:Biomüll
URL:https://www.maibach-online.de/index.php?option=com_jem&view=event&id=36
 :biomuellabfuhr
END:VEVENT
END:VCALENDAR