BEGIN:VCALENDAR
VERSION:2.0
PRODID:-//81.169.145.79//NONSGML kigkonsult.se iCalcreator 2.20//
CALSCALE:GREGORIAN
METHOD:PUBLISH
X-WR-TIMEZONE:Europe/Berlin
BEGIN:VEVENT
UID:event257@Maibach Online
DTSTAMP:20260423T002906Z
CATEGORIES:Abfallkalender
DESCRIPTION:Restmüllabfuhr\nKategorie: Abfallkalender\nICS-Link: https://ww
 w.maibach-online.de/index.php?option=com_jem&view=event&id=257:restmuellab
 fuhr\n
DTSTART;VALUE=DATE:20170921
DTEND;VALUE=DATE:20170922
LOCATION:Maibach
SUMMARY:Restmüllabfuhr
URL:https://www.maibach-online.de/index.php?option=com_jem&view=event&id=25
 7:restmuellabfuhr
END:VEVENT
END:VCALENDAR